Workbook

Sheet Change 2019-2024
A1: Change in AI/AN Income Profile, 2019 to 2024, by IHS Coverage Reporting
A2: ACS 1-Year PUMS, 2019 and 2024. The 2020 race question change falls between the two years, so compare shares, not raw AI/AN counts.
A4: Group and income band | B4: 2019 count | C4: 2024 count | D4: Change | E4: 2019 share | F4: 2024 share | G4: Share change (points) | H4: Share of group's total change
A5: AI/AN reporting IHS
A6: 0 to 138% | B6: ='2019 1-Year'!B5 -> 493202 | C6: ='2024 1-Year'!B5 -> 420388 | D6: =C6-B6 -> -72814 | E6: =B6/B$9 -> 0.33524816 | F6: =C6/C$9 -> 0.3190222 | G6: =(F6-E6)*100 -> -1.6225951 | H6: =IF(D$9=0,0,D6/D$9) -> 0.47461803
A7: 139 to 400% | B7: ='2019 1-Year'!B6 -> 674384 | C7: ='2024 1-Year'!B6 -> 614372 | D7: =C7-B7 -> -60012 | E7: =B7/B$9 -> 0.45840445 | F7: =C7/C$9 -> 0.46623193 | G7: =(F7-E7)*100 -> 0.78274812 | H7: =IF(D$9=0,0,D7/D$9) -> 0.39117172
A8: 401% and above | B8: ='2019 1-Year'!B7 -> 303569 | C8: ='2024 1-Year'!B7 -> 282979 | D8: =C8-B8 -> -20590 | E8: =B8/B$9 -> 0.20634739 | F8: =C8/C$9 -> 0.21474586 | G8: =(F8-E8)*100 -> 0.83984702 | H8: =IF(D$9=0,0,D8/D$9) -> 0.13421025
A9: Total | B9: ='2019 1-Year'!B8 -> 1471155 | C9: ='2024 1-Year'!B8 -> 1317739 | D9: =C9-B9 -> -153416 | E9: =B9/B$9 -> 1 | F9: =C9/C$9 -> 1 | G9: =(F9-E9)*100 -> 0 | H9: =IF(D$9=0,0,D9/D$9) -> 1
A11: AI/AN not reporting IHS
A12: 0 to 138% | B12: ='2019 1-Year'!C5 -> 1066511 | C12: ='2024 1-Year'!C5 -> 1710558 | D12: =C12-B12 -> 644047 | E12: =B12/B$15 -> 0.26774263 | F12: =C12/C$15 -> 0.22648934 | G12: =(F12-E12)*100 -> -4.1253293 | H12: =IF(D$15=0,0,D12/D$15) -> 0.18044859
A13: 139 to 400% | B13: ='2019 1-Year'!C6 -> 1696829 | C13: ='2024 1-Year'!C6 -> 3322929 | D13: =C13-B13 -> 1626100 | E13: =B13/B$15 -> 0.42598104 | F13: =C13/C$15 -> 0.43997806 | G13: =(F13-E13)*100 -> 1.3997023 | H13: =IF(D$15=0,0,D13/D$15) -> 0.45559944
A14: 401% and above | B14: ='2019 1-Year'!C7 -> 1220004 | C14: ='2024 1-Year'!C7 -> 2519001 | D14: =C14-B14 -> 1298997 | E14: =B14/B$15 -> 0.30627633 | F14: =C14/C$15 -> 0.33353261 | G14: =(F14-E14)*100 -> 2.7256271 | H14: =IF(D$15=0,0,D14/D$15) -> 0.36395197
A15: Total | B15: ='2019 1-Year'!C8 -> 3983344 | C15: ='2024 1-Year'!C8 -> 7552488 | D15: =C15-B15 -> 3569144 | E15: =B15/B$15 -> 1 | F15: =C15/C$15 -> 1 | G15: =(F15-E15)*100 -> 0 | H15: =IF(D$15=0,0,D15/D$15) -> 1
A17: Non-AI/AN
A18: 0 to 138% | B18: ='2019 1-Year'!E5 -> 57666262 | C18: ='2024 1-Year'!E5 -> 56310205 | D18: =C18-B18 -> -1356057 | E18: =B18/B$21 -> 0.18324617 | F18: =C18/C$21 -> 0.17419933 | G18: =(F18-E18)*100 -> -0.90468331 | H18: =IF(D$21=0,0,D18/D$21) -> -0.15844225
A19: 139 to 400% | B19: ='2019 1-Year'!E6 -> 126042996 | C19: ='2024 1-Year'!E6 -> 126632376 | D19: =C19-B19 -> 589380 | E19: =B19/B$21 -> 0.40052702 | F19: =C19/C$21 -> 0.39174561 | G19: =(F19-E19)*100 -> -0.8781408 | H19: =IF(D$21=0,0,D19/D$21) -> 0.068863399
A20: 401% and above | B20: ='2019 1-Year'!E7 -> 130983611 | C20: ='2024 1-Year'!E7 -> 140308971 | D20: =C20-B20 -> 9325360 | E20: =B20/B$21 -> 0.41622682 | F20: =C20/C$21 -> 0.43405506 | G20: =(F20-E20)*100 -> 1.7828241 | H20: =IF(D$21=0,0,D20/D$21) -> 1.0895789
A21: Total | B21: ='2019 1-Year'!E8 -> 314692869 | C21: ='2024 1-Year'!E8 -> 323251552 | D21: =C21-B21 -> 8558683 | E21: =B21/B$21 -> 1 | F21: =C21/C$21 -> 1 | G21: =(F21-E21)*100 -> 0 | H21: =IF(D$21=0,0,D21/D$21) -> 1
A23: Green figures link to the year sheets; black figures are calculated. Shares are within each group.
A24: The AI/AN count without IHS coverage nearly doubled between 2019 and 2024, mostly because of the 2020 race question change; its income mix shows the profile of the added population.
A25: The drop in AI/AN reporting IHS coverage is consistent with the series' reading of pandemic-era survey disruption and is not caused by the race question.

Sheet 2019 1-Year
A1: AI/AN Population by Income-to-Poverty Ratio and IHS Coverage Reporting, United States, 2019
A2: ACS 1-Year PUMS, 2019. AI/AN alone or in combination. Weighted person counts (PWGTP). Persons whose poverty status is determined.
A4: Income-to-poverty group | B4: AI/AN reporting IHS | C4: AI/AN not reporting IHS | D4: All AI/AN | E4: Non-AI/AN | F4: All persons | G4: AI/AN reporting IHS: share | H4: AI/AN not reporting IHS: share | I4: All AI/AN: share | J4: Non-AI/AN: share
A5: 0 to 138% of poverty | B5: 493202 | C5: 1066511 | D5: =B5+C5 -> 1559713 | E5: 57666262 | F5: =D5+E5 -> 59225975 | G5: =B5/B$8 -> 0.33524816 | H5: =C5/C$8 -> 0.26774263 | I5: =D5/D$8 -> 0.28594982 | J5: =E5/E$8 -> 0.18324617
A6: 139 to 400% of poverty | B6: 674384 | C6: 1696829 | D6: =B6+C6 -> 2371213 | E6: 126042996 | F6: =D6+E6 -> 128414209 | G6: =B6/B$8 -> 0.45840445 | H6: =C6/C$8 -> 0.42598104 | I6: =D6/D$8 -> 0.43472609 | J6: =E6/E$8 -> 0.40052702
A7: 401% of poverty and above | B7: 303569 | C7: 1220004 | D7: =B7+C7 -> 1523573 | E7: 130983611 | F7: =D7+E7 -> 132507184 | G7: =B7/B$8 -> 0.20634739 | H7: =C7/C$8 -> 0.30627633 | I7: =D7/D$8 -> 0.2793241 | J7: =E7/E$8 -> 0.41622682
A8: Total | B8: =SUM(B5:B7) -> 1471155 | C8: =SUM(C5:C7) -> 3983344 | D8: =SUM(D5:D7) -> 5454499 | E8: =SUM(E5:E7) -> 314692869 | F8: =SUM(F5:F7) -> 320147368 | G8: =B8/B$8 -> 1 | H8: =C8/C$8 -> 1 | I8: =D8/D$8 -> 1 | J8: =E8/E$8 -> 1
A10: Blue figures are the Census Bureau's weighted estimates (non-AI/AN is the sum of its IHS and non-IHS cells); black figures are calculated.
A11: POVPIP grouped as 0–138, 139–400, and 401 and above. 138% is the Medicaid expansion income limit; 139–400% is the Marketplace premium tax credit range.
A12: IHS = self-reported Indian Health Service coverage (HINS7). PUMS estimates carry sampling error; margins of error are not shown.

Sheet 2024 1-Year
A1: AI/AN Population by Income-to-Poverty Ratio and IHS Coverage Reporting, United States, 2024
A2: ACS 1-Year PUMS, 2024. AI/AN alone or in combination. Weighted person counts (PWGTP). Persons whose poverty status is determined.
A4: Income-to-poverty group | B4: AI/AN reporting IHS | C4: AI/AN not reporting IHS | D4: All AI/AN | E4: Non-AI/AN | F4: All persons | G4: AI/AN reporting IHS: share | H4: AI/AN not reporting IHS: share | I4: All AI/AN: share | J4: Non-AI/AN: share
A5: 0 to 138% of poverty | B5: 420388 | C5: 1710558 | D5: =B5+C5 -> 2130946 | E5: 56310205 | F5: =D5+E5 -> 58441151 | G5: =B5/B$8 -> 0.3190222 | H5: =C5/C$8 -> 0.22648934 | I5: =D5/D$8 -> 0.24023579 | J5: =E5/E$8 -> 0.17419933
A6: 139 to 400% of poverty | B6: 614372 | C6: 3322929 | D6: =B6+C6 -> 3937301 | E6: 126632376 | F6: =D6+E6 -> 130569677 | G6: =B6/B$8 -> 0.46623193 | H6: =C6/C$8 -> 0.43997806 | I6: =D6/D$8 -> 0.44387827 | J6: =E6/E$8 -> 0.39174561
A7: 401% of poverty and above | B7: 282979 | C7: 2519001 | D7: =B7+C7 -> 2801980 | E7: 140308971 | F7: =D7+E7 -> 143110951 | G7: =B7/B$8 -> 0.21474586 | H7: =C7/C$8 -> 0.33353261 | I7: =D7/D$8 -> 0.31588594 | J7: =E7/E$8 -> 0.43405506
A8: Total | B8: =SUM(B5:B7) -> 1317739 | C8: =SUM(C5:C7) -> 7552488 | D8: =SUM(D5:D7) -> 8870227 | E8: =SUM(E5:E7) -> 323251552 | F8: =SUM(F5:F7) -> 332121779 | G8: =B8/B$8 -> 1 | H8: =C8/C$8 -> 1 | I8: =D8/D$8 -> 1 | J8: =E8/E$8 -> 1
A10: Blue figures are the Census Bureau's weighted estimates (non-AI/AN is the sum of its IHS and non-IHS cells); black figures are calculated.
A11: POVPIP grouped as 0–138, 139–400, and 401 and above. 138% is the Medicaid expansion income limit; 139–400% is the Marketplace premium tax credit range.
A12: IHS = self-reported Indian Health Service coverage (HINS7). PUMS estimates carry sampling error; margins of error are not shown.

Sheet Source
A1: Source and Methods
A3: Dataset | B3: American Community Survey 1-Year Public Use Microdata Sample (PUMS), 2019 and 2024
A4: Producer | B4: U.S. Census Bureau
A5: Tool | B5: Census Bureau Microdata Access Tool (MDAT), data.census.gov/mdat
A6: Weight | B6: PUMS person weight (PWGTP)
A7: Geography | B7: United States
A8: Variables | B8: RACAIAN — AI/AN recode (alone or in combination); HINS7 — Indian Health Service; POVPIP — Income-to-poverty ratio recode, grouped as 0–138, 139–400, 401 and above
A9: Universe shown | B9: Persons whose poverty status is determined
A10: Extracted | B10: October 13, 2026, by Edward J. Fox, PhD
A11: Suggested citation | B11: U.S. Census Bureau, American Community Survey 1-Year PUMS (2019, 2024). Tabulated by Edward J. Fox, PhD, edfoxphd.com.
