Workbook

Sheet Compare
A1: AI/AN Coverage: 5-Year vs 1-Year Estimates, 2024
A2: AI/AN alone or in combination. Pulled from the two detail sheets.
A4: Measure | B4: 5-Year 2024 (count) | C4: 5-Year 2024 (% of AI/AN) | D4: 1-Year 2024 (count) | E4: 1-Year 2024 (% of AI/AN)
A5: All AI/AN | B5: ='5-Year 2024'!F13 -> 7977487 | C5: ='5-Year 2024'!H13 -> 1 | D5: ='1-Year 2024'!F13 -> 9129771 | E5: ='1-Year 2024'!H13 -> 1
A6: Any IHS | B6: ='5-Year 2024'!F16 -> 1294264 | C6: ='5-Year 2024'!H16 -> 0.16223956 | D6: ='1-Year 2024'!F16 -> 1351209 | E6: ='1-Year 2024'!H16 -> 0.14800032
A7: Any Medicaid | B7: ='5-Year 2024'!F17 -> 2481204 | C7: ='5-Year 2024'!H17 -> 0.31102577 | D7: ='1-Year 2024'!F17 -> 2804741 | E7: ='1-Year 2024'!H17 -> 0.30720825
A8: Any Medicare | B8: ='5-Year 2024'!F18 -> 1038422 | C8: ='5-Year 2024'!H18 -> 0.13016906 | D8: ='1-Year 2024'!F18 -> 1260848 | E8: ='1-Year 2024'!H18 -> 0.13810292
A9: IHS only (no Medicare or Medicaid) | B9: ='5-Year 2024'!F19 -> 682652 | C9: ='5-Year 2024'!H19 -> 0.085572311 | D9: ='1-Year 2024'!F19 -> 714734 | E9: ='1-Year 2024'!H19 -> 0.078286082
A10: IHS and Medicaid | B10: ='5-Year 2024'!F20 -> 496460 | C10: ='5-Year 2024'!H20 -> 0.06223263 | D10: ='1-Year 2024'!F20 -> 508706 | E10: ='1-Year 2024'!H20 -> 0.05571947
A11: IHS and Medicare | B11: ='5-Year 2024'!F21 -> 176800 | C11: ='5-Year 2024'!H21 -> 0.022162368 | D11: ='1-Year 2024'!F21 -> 196529 | E11: ='1-Year 2024'!H21 -> 0.02152617
A12: Medicare and Medicaid (dual) | B12: ='5-Year 2024'!F22 -> 328049 | C12: ='5-Year 2024'!H22 -> 0.041121847 | D12: ='1-Year 2024'!F22 -> 397038 | E12: ='1-Year 2024'!H22 -> 0.043488276
A13: None of the three (private, other, or uninsured) | B13: ='5-Year 2024'!F23 -> 4103258 | C13: ='5-Year 2024'!H23 -> 0.51435471 | D13: ='1-Year 2024'!F23 -> 4746486 | E13: ='1-Year 2024'!H23 -> 0.51989102
A15: Green figures link to the detail sheets. Categories in the summary groups overlap (a person can be in several).

Sheet 5-Year 2024
A1: Medicare, Medicaid, and IHS Coverage by AI/AN Status, United States — 5-Year 2024
A2: ACS 5-Year PUMS, 2024 release (2020–2024). AI/AN alone or in combination. Weighted person counts (PWGTP). All ages.
A4: Medicare | B4: Medicaid | C4: IHS | D4: All persons | E4: Non-AI/AN | F4: AI/AN | G4: AI/AN share of group | H4: % of all AI/AN
A5: Yes | B5: Yes | C5: Yes | D5: =E5+F5 -> 102865 | E5: 41217 | F5: 61648 | G5: =IF(D5=0,0,F5/D5) -> 0.59930977 | H5: =F5/F$13 -> 0.0077277468
A6: Yes | B6: Yes | C6: No | D6: =E6+F6 -> 12277484 | E6: 12011083 | F6: 266401 | G6: =IF(D6=0,0,F6/D6) -> 0.021698338 | H6: =F6/F$13 -> 0.0333941
A7: Yes | B7: No | C7: Yes | D7: =E7+F7 -> 157266 | E7: 42114 | F7: 115152 | G7: =IF(D7=0,0,F7/D7) -> 0.73221167 | H7: =F7/F$13 -> 0.014434621
A8: Yes | B8: No | C8: No | D8: =E8+F8 -> 49680700 | E8: 49085479 | F8: 595221 | G8: =IF(D8=0,0,F8/D8) -> 0.01198093 | H8: =F8/F$13 -> 0.074612594
A9: No | B9: Yes | C9: Yes | D9: =E9+F9 -> 484448 | E9: 49636 | F9: 434812 | G9: =IF(D9=0,0,F9/D9) -> 0.89754112 | H9: =F9/F$13 -> 0.054504884
A10: No | B10: Yes | C10: No | D10: =E10+F10 -> 57874763 | E10: 56156420 | F10: 1718343 | G10: =IF(D10=0,0,F10/D10) -> 0.029690713 | H10: =F10/F$13 -> 0.21539903
A11: No | B11: No | C11: Yes | D11: =E11+F11 -> 778438 | E11: 95786 | F11: 682652 | G11: =IF(D11=0,0,F11/D11) -> 0.87695102 | H11: =F11/F$13 -> 0.085572311
A12: No | B12: No | C12: No | D12: =E12+F12 -> 213566539 | E12: 209463281 | F12: 4103258 | G12: =IF(D12=0,0,F12/D12) -> 0.019213019 | H12: =F12/F$13 -> 0.51435471
A13: All persons | D13: =E13+F13 -> 334922503 | E13: =SUM(E5:E12) -> 326945016 | F13: =SUM(F5:F12) -> 7977487 | G13: =IF(D13=0,0,F13/D13) -> 0.023818904 | H13: =F13/F$13 -> 1
A15: Summary groups
A16: Any IHS | D16: =E16+F16 -> 1523017 | E16: =SUMIFS($E$5:$E$12,$A$5:$A$12,"*",$B$5:$B$12,"*",$C$5:$C$12,"Yes") -> 228753 | F16: =SUMIFS($F$5:$F$12,$A$5:$A$12,"*",$B$5:$B$12,"*",$C$5:$C$12,"Yes") -> 1294264 | G16: =IF(D16=0,0,F16/D16) -> 0.84980273 | H16: =F16/F$13 -> 0.16223956
A17: Any Medicaid | D17: =E17+F17 -> 70739560 | E17: =SUMIFS($E$5:$E$12,$A$5:$A$12,"*",$B$5:$B$12,"Yes",$C$5:$C$12,"*") -> 68258356 | F17: =SUMIFS($F$5:$F$12,$A$5:$A$12,"*",$B$5:$B$12,"Yes",$C$5:$C$12,"*") -> 2481204 | G17: =IF(D17=0,0,F17/D17) -> 0.035075197 | H17: =F17/F$13 -> 0.31102577
A18: Any Medicare | D18: =E18+F18 -> 62218315 | E18: =SUMIFS($E$5:$E$12,$A$5:$A$12,"Yes",$B$5:$B$12,"*",$C$5:$C$12,"*") -> 61179893 | F18: =SUMIFS($F$5:$F$12,$A$5:$A$12,"Yes",$B$5:$B$12,"*",$C$5:$C$12,"*") -> 1038422 | G18: =IF(D18=0,0,F18/D18) -> 0.016689973 | H18: =F18/F$13 -> 0.13016906
A19: IHS only (no Medicare or Medicaid) | D19: =E19+F19 -> 778438 | E19: =SUMIFS($E$5:$E$12,$A$5:$A$12,"No",$B$5:$B$12,"No",$C$5:$C$12,"Yes") -> 95786 | F19: =SUMIFS($F$5:$F$12,$A$5:$A$12,"No",$B$5:$B$12,"No",$C$5:$C$12,"Yes") -> 682652 | G19: =IF(D19=0,0,F19/D19) -> 0.87695102 | H19: =F19/F$13 -> 0.085572311
A20: IHS and Medicaid | D20: =E20+F20 -> 587313 | E20: =SUMIFS($E$5:$E$12,$A$5:$A$12,"*",$B$5:$B$12,"Yes",$C$5:$C$12,"Yes") -> 90853 | F20: =SUMIFS($F$5:$F$12,$A$5:$A$12,"*",$B$5:$B$12,"Yes",$C$5:$C$12,"Yes") -> 496460 | G20: =IF(D20=0,0,F20/D20) -> 0.84530736 | H20: =F20/F$13 -> 0.06223263
A21: IHS and Medicare | D21: =E21+F21 -> 260131 | E21: =SUMIFS($E$5:$E$12,$A$5:$A$12,"Yes",$B$5:$B$12,"*",$C$5:$C$12,"Yes") -> 83331 | F21: =SUMIFS($F$5:$F$12,$A$5:$A$12,"Yes",$B$5:$B$12,"*",$C$5:$C$12,"Yes") -> 176800 | G21: =IF(D21=0,0,F21/D21) -> 0.67965756 | H21: =F21/F$13 -> 0.022162368
A22: Medicare and Medicaid (dual) | D22: =E22+F22 -> 12380349 | E22: =SUMIFS($E$5:$E$12,$A$5:$A$12,"Yes",$B$5:$B$12,"Yes",$C$5:$C$12,"*") -> 12052300 | F22: =SUMIFS($F$5:$F$12,$A$5:$A$12,"Yes",$B$5:$B$12,"Yes",$C$5:$C$12,"*") -> 328049 | G22: =IF(D22=0,0,F22/D22) -> 0.026497557 | H22: =F22/F$13 -> 0.041121847
A23: None of the three (private, other, or uninsured) | D23: =E23+F23 -> 213566539 | E23: =SUMIFS($E$5:$E$12,$A$5:$A$12,"No",$B$5:$B$12,"No",$C$5:$C$12,"No") -> 209463281 | F23: =SUMIFS($F$5:$F$12,$A$5:$A$12,"No",$B$5:$B$12,"No",$C$5:$C$12,"No") -> 4103258 | G23: =IF(D23=0,0,F23/D23) -> 0.019213019 | H23: =F23/F$13 -> 0.51435471
A25: Blue figures are the Census Bureau's weighted estimates; black figures are calculated.
A26: IHS = respondent reported coverage through the Indian Health Service (HINS7). The Census Bureau does not count IHS alone as health insurance coverage.
A27: Some non-AI/AN respondents report IHS coverage; this reflects self-reporting and race classification, and the figures are shown as published.
A28: PUMS estimates carry sampling error; margins of error are not shown. 1-year estimates are more current but less precise than 5-year estimates.

Sheet 1-Year 2024
A1: Medicare, Medicaid, and IHS Coverage by AI/AN Status, United States — 1-Year 2024
A2: ACS 1-Year PUMS, 2024. AI/AN alone or in combination. Weighted person counts (PWGTP). All ages.
A4: Medicare | B4: Medicaid | C4: IHS | D4: All persons | E4: Non-AI/AN | F4: AI/AN | G4: AI/AN share of group | H4: % of all AI/AN
A5: Yes | B5: Yes | C5: Yes | D5: =E5+F5 -> 113814 | E5: 45054 | F5: 68760 | G5: =IF(D5=0,0,F5/D5) -> 0.6041436 | H5: =F5/F$13 -> 0.0075314047
A6: Yes | B6: Yes | C6: No | D6: =E6+F6 -> 12948142 | E6: 12619864 | F6: 328278 | G6: =IF(D6=0,0,F6/D6) -> 0.02535329 | H6: =F6/F$13 -> 0.035956871
A7: Yes | B7: No | C7: Yes | D7: =E7+F7 -> 169963 | E7: 42194 | F7: 127769 | G7: =IF(D7=0,0,F7/D7) -> 0.75174597 | H7: =F7/F$13 -> 0.013994765
A8: Yes | B8: No | C8: No | D8: =E8+F8 -> 51763501 | E8: 51027460 | F8: 736041 | G8: =IF(D8=0,0,F8/D8) -> 0.014219305 | H8: =F8/F$13 -> 0.080619875
A9: No | B9: Yes | C9: Yes | D9: =E9+F9 -> 483075 | E9: 43129 | F9: 439946 | G9: =IF(D9=0,0,F9/D9) -> 0.91071987 | H9: =F9/F$13 -> 0.048188065
A10: No | B10: Yes | C10: No | D10: =E10+F10 -> 56923582 | E10: 54955825 | F10: 1967757 | G10: =IF(D10=0,0,F10/D10) -> 0.034568397 | H10: =F10/F$13 -> 0.21553191
A11: No | B11: No | C11: Yes | D11: =E11+F11 -> 807972 | E11: 93238 | F11: 714734 | G11: =IF(D11=0,0,F11/D11) -> 0.88460244 | H11: =F11/F$13 -> 0.078286082
A12: No | B12: No | C12: No | D12: =E12+F12 -> 216900941 | E12: 212154455 | F12: 4746486 | G12: =IF(D12=0,0,F12/D12) -> 0.021883197 | H12: =F12/F$13 -> 0.51989102
A13: All persons | D13: =E13+F13 -> 340110990 | E13: =SUM(E5:E12) -> 330981219 | F13: =SUM(F5:F12) -> 9129771 | G13: =IF(D13=0,0,F13/D13) -> 0.026843505 | H13: =F13/F$13 -> 1
A15: Summary groups
A16: Any IHS | D16: =E16+F16 -> 1574824 | E16: =SUMIFS($E$5:$E$12,$A$5:$A$12,"*",$B$5:$B$12,"*",$C$5:$C$12,"Yes") -> 223615 | F16: =SUMIFS($F$5:$F$12,$A$5:$A$12,"*",$B$5:$B$12,"*",$C$5:$C$12,"Yes") -> 1351209 | G16: =IF(D16=0,0,F16/D16) -> 0.85800635 | H16: =F16/F$13 -> 0.14800032
A17: Any Medicaid | D17: =E17+F17 -> 70468613 | E17: =SUMIFS($E$5:$E$12,$A$5:$A$12,"*",$B$5:$B$12,"Yes",$C$5:$C$12,"*") -> 67663872 | F17: =SUMIFS($F$5:$F$12,$A$5:$A$12,"*",$B$5:$B$12,"Yes",$C$5:$C$12,"*") -> 2804741 | G17: =IF(D17=0,0,F17/D17) -> 0.03980128 | H17: =F17/F$13 -> 0.30720825
A18: Any Medicare | D18: =E18+F18 -> 64995420 | E18: =SUMIFS($E$5:$E$12,$A$5:$A$12,"Yes",$B$5:$B$12,"*",$C$5:$C$12,"*") -> 63734572 | F18: =SUMIFS($F$5:$F$12,$A$5:$A$12,"Yes",$B$5:$B$12,"*",$C$5:$C$12,"*") -> 1260848 | G18: =IF(D18=0,0,F18/D18) -> 0.019399028 | H18: =F18/F$13 -> 0.13810292
A19: IHS only (no Medicare or Medicaid) | D19: =E19+F19 -> 807972 | E19: =SUMIFS($E$5:$E$12,$A$5:$A$12,"No",$B$5:$B$12,"No",$C$5:$C$12,"Yes") -> 93238 | F19: =SUMIFS($F$5:$F$12,$A$5:$A$12,"No",$B$5:$B$12,"No",$C$5:$C$12,"Yes") -> 714734 | G19: =IF(D19=0,0,F19/D19) -> 0.88460244 | H19: =F19/F$13 -> 0.078286082
A20: IHS and Medicaid | D20: =E20+F20 -> 596889 | E20: =SUMIFS($E$5:$E$12,$A$5:$A$12,"*",$B$5:$B$12,"Yes",$C$5:$C$12,"Yes") -> 88183 | F20: =SUMIFS($F$5:$F$12,$A$5:$A$12,"*",$B$5:$B$12,"Yes",$C$5:$C$12,"Yes") -> 508706 | G20: =IF(D20=0,0,F20/D20) -> 0.85226231 | H20: =F20/F$13 -> 0.05571947
A21: IHS and Medicare | D21: =E21+F21 -> 283777 | E21: =SUMIFS($E$5:$E$12,$A$5:$A$12,"Yes",$B$5:$B$12,"*",$C$5:$C$12,"Yes") -> 87248 | F21: =SUMIFS($F$5:$F$12,$A$5:$A$12,"Yes",$B$5:$B$12,"*",$C$5:$C$12,"Yes") -> 196529 | G21: =IF(D21=0,0,F21/D21) -> 0.69254732 | H21: =F21/F$13 -> 0.02152617
A22: Medicare and Medicaid (dual) | D22: =E22+F22 -> 13061956 | E22: =SUMIFS($E$5:$E$12,$A$5:$A$12,"Yes",$B$5:$B$12,"Yes",$C$5:$C$12,"*") -> 12664918 | F22: =SUMIFS($F$5:$F$12,$A$5:$A$12,"Yes",$B$5:$B$12,"Yes",$C$5:$C$12,"*") -> 397038 | G22: =IF(D22=0,0,F22/D22) -> 0.030396519 | H22: =F22/F$13 -> 0.043488276
A23: None of the three (private, other, or uninsured) | D23: =E23+F23 -> 216900941 | E23: =SUMIFS($E$5:$E$12,$A$5:$A$12,"No",$B$5:$B$12,"No",$C$5:$C$12,"No") -> 212154455 | F23: =SUMIFS($F$5:$F$12,$A$5:$A$12,"No",$B$5:$B$12,"No",$C$5:$C$12,"No") -> 4746486 | G23: =IF(D23=0,0,F23/D23) -> 0.021883197 | H23: =F23/F$13 -> 0.51989102
A25: Blue figures are the Census Bureau's weighted estimates; black figures are calculated.
A26: IHS = respondent reported coverage through the Indian Health Service (HINS7). The Census Bureau does not count IHS alone as health insurance coverage.
A27: Some non-AI/AN respondents report IHS coverage; this reflects self-reporting and race classification, and the figures are shown as published.
A28: PUMS estimates carry sampling error; margins of error are not shown. 1-year estimates are more current but less precise than 5-year estimates.

Sheet Source
A1: Source and Methods
A3: Dataset | B3: American Community Survey Public Use Microdata Sample (PUMS): 5-Year 2024 release (2020–2024) and 1-Year 2024
A4: Producer | B4: U.S. Census Bureau
A5: Tool | B5: Census Bureau Microdata Access Tool (MDAT), data.census.gov/mdat
A6: Weight | B6: Person weight (PWGTP)
A7: Geography | B7: United States
A8: Variables | B8: RACAIAN — AI/AN recode (alone or in combination); HINS3 — Medicare; HINS4 — Medicaid, Medical Assistance, or other government assistance plan for low income or disability; HINS7 — Indian Health Service
A9: Extracted | B9: October 9, 2026, by Edward J. Fox, PhD
A10: Prepared by | B10: Edward J. Fox, PhD — edfoxphd.com
A11: Suggested citation | B11: U.S. Census Bureau, American Community Survey PUMS, 5-Year and 1-Year (2024). Tabulated by Edward J. Fox, PhD, edfoxphd.com.
